BEGIN:VCALENDAR
VERSION:2.0
PRODID:GlueUp
CALSCALE:GREGORIAN
BEGIN:VTIMEZONE
TZID:UTC
BEGIN:STANDARD
DTSTART:19700101T000000
TZOFFSETFROM:+0000
TZOFFSETTO:+0000
TZNAME:UTC
END:STANDARD
END:VTIMEZONE
BEGIN:VEVENT
TZ:+00
ORGANIZER;CN=Shanghai BenCham:MAILTO:shanghai@bencham.org
UID:45625-1776611652@https://benchamshanghai.glueup.cn
DTSTAMP:20260419T151412Z
DTSTART:20241206T090000Z
DTEND:20241206T110000Z
SUMMARY:Whistleblower Investigations
DESCRIPTION:Whistleblower Investigations by Benelux Chamber of Commerce Shanghai\n\nDec 6, 2024 (17:00 - 19:00)(GMT+8)\n\nFor more information, click here: https://benchamshanghai.glueup.cn/my/events/45625
LOCATION:Grant Thornton - 45th Floor - Raffles City - 268 Xizang Zhong Road - Shanghai 200001 -  - 上海市西藏中路268号，来福士广场45楼，200001 Shanghai - China
BEGIN:VALARM
TRIGGER:-PT48H
REPEAT:4
DURATION:PT30M
ACTION:DISPLAY
END:VALARM
END:VEVENT
END:VCALENDAR