BEGIN:VCALENDAR
VERSION:2.0
PRODID:GlueUp
CALSCALE:GREGORIAN
BEGIN:VTIMEZONE
TZID:UTC
BEGIN:STANDARD
DTSTART:19700101T000000
TZOFFSETFROM:+0000
TZOFFSETTO:+0000
TZNAME:UTC
END:STANDARD
END:VTIMEZONE
BEGIN:VEVENT
TZ:+00
ORGANIZER;CN=Shanghai BenCham:MAILTO:shanghai@bencham.org
UID:26745-1776904355@https://benchamshanghai.glueup.cn
DTSTAMP:20260423T003235Z
DTSTART:20200518T100000Z
DTEND:20200518T111500Z
SUMMARY:Webinar: COVID-19, from the Lockdown to the Opening [Members Only]
DESCRIPTION:Webinar: COVID-19, from the Lockdown to the Opening [Members Only] by Benelux Chamber of Commerce Shanghai\n\nMay 18, 2020\n6:00 PM - 7:15 PM(GMT+8)\n\nFor more information and to attend the online event, click here:\n\nEvent Website: https://benchamshanghai.glueup.cn/my/events/26745\n\nEvent Link: https://www.zoom.com
LOCATION:https://www.zoom.com
BEGIN:VALARM
TRIGGER:-PT1H
REPEAT:4
DURATION:PT15M
ACTION:DISPLAY
END:VALARM
END:VEVENT
END:VCALENDAR