BEGIN:VCALENDAR
VERSION:2.0
PRODID:GlueUp
CALSCALE:GREGORIAN
BEGIN:VTIMEZONE
TZID:UTC
BEGIN:STANDARD
DTSTART:19700101T000000
TZOFFSETFROM:+0000
TZOFFSETTO:+0000
TZNAME:UTC
END:STANDARD
END:VTIMEZONE
BEGIN:VEVENT
TZ:+00
ORGANIZER;CN=Benelux Chamber of Commerce Shanghai Shanghai:MAILTO:shanghai@beneluxchamber.org
UID:35505-1776709244@https://benchamshanghai.glueup.cn
DTSTAMP:20260420T182044Z
DTSTART:20220302T103000Z
DTEND:20220302T130000Z
SUMMARY:Interchamber International Women's Day Mixer
DESCRIPTION:Interchamber International Women's Day Mixer by Benelux Chamber of Commerce Shanghai\n\nMar 2, 2022 (18:30 - 21:00)(GMT+8)\n\nFor more information, click here: https://benchamshanghai.glueup.cn/my/events/35505
LOCATION:The House of Roosevelt - 中山东一路 27 Shang Hai Shi - China
BEGIN:VALARM
TRIGGER:-PT48H
REPEAT:4
DURATION:PT30M
ACTION:DISPLAY
END:VALARM
END:VEVENT
END:VCALENDAR