BEGIN:VCALENDAR
VERSION:2.0
PRODID:GlueUp
CALSCALE:GREGORIAN
BEGIN:VTIMEZONE
TZID:UTC
BEGIN:STANDARD
DTSTART:19700101T000000
TZOFFSETFROM:+0000
TZOFFSETTO:+0000
TZNAME:UTC
END:STANDARD
END:VTIMEZONE
BEGIN:VEVENT
TZ:+00
ORGANIZER;CN=Kim Steen:MAILTO:kim@beneluxchamber.org
UID:46207-1776940649@https://benchamshanghai.glueup.cn
DTSTAMP:20260423T103729Z
DTSTART:20250225T003000Z
DTEND:20250225T040000Z
SUMMARY:AI to Boost eCommerce
DESCRIPTION:AI to Boost eCommerce by Benelux Chamber of Commerce Shanghai\n\nFeb 25, 2025 (08:30 - 12:00)(GMT+8)\n\nFor more information, click here: https://benchamshanghai.glueup.cn/my/events/46207
LOCATION:DaWo Law Firm Shanghai - 567 Weihai Road - 20th floor Shanghai - China
BEGIN:VALARM
TRIGGER:-PT48H
REPEAT:4
DURATION:PT30M
ACTION:DISPLAY
END:VALARM
END:VEVENT
END:VCALENDAR