BEGIN:VCALENDAR
VERSION:2.0
PRODID:GlueUp
CALSCALE:GREGORIAN
BEGIN:VTIMEZONE
TZID:UTC
BEGIN:STANDARD
DTSTART:19700101T000000
TZOFFSETFROM:+0000
TZOFFSETTO:+0000
TZNAME:UTC
END:STANDARD
END:VTIMEZONE
BEGIN:VEVENT
TZ:+00
ORGANIZER;CN=Jonathan Xu:MAILTO:jonathan@bencham.org
UID:50227-1776693083@https://benchamshanghai.glueup.cn
DTSTAMP:20260420T135123Z
DTSTART:20260514T110000Z
DTEND:20260514T140000Z
SUMMARY:2026 Benelux Chamber of Commerce Spring Reception
DESCRIPTION:2026 Benelux Chamber of Commerce Spring Reception by Benelux Chamber of Commerce Shanghai\n\nMay 14, 2026 (19:00 - 22:00)(GMT+8)\n\nFor more information, click here: https://benchamshanghai.glueup.cn/my/events/50227
LOCATION:Tomatito - Infinitus Mall - 3F - 168 Hubin Road - Shanghai - 上海市黄浦区湖滨路168号无限极荟3楼 W08-10 单元 Shanghai - China
BEGIN:VALARM
TRIGGER:-PT48H
REPEAT:4
DURATION:PT30M
ACTION:DISPLAY
END:VALARM
END:VEVENT
END:VCALENDAR